BEGIN:VCALENDAR
VERSION:2.0
PRODID:-//81.169.145.93//NONSGML kigkonsult.se iCalcreator 2.20//
CALSCALE:GREGORIAN
METHOD:PUBLISH
X-WR-TIMEZONE:UTC
BEGIN:VEVENT
UID:event515@Schützengruppe Hohenhorn
DTSTAMP:20260421T170300Z
CATEGORIES:Großkaliber
DESCRIPTION:Großkaliber Langwaffe B2 300m\nKategorie: Großkaliber\nICS-Link
 : http://sg-hohenhorn.de/index.php?option=com_jem&view=event&id=515:grossk
 aliber-langwaffe\n
DTSTART:20200418T140000Z
DTEND:20200418T170000Z
LOCATION:Großkaliberstand\,Zum Schießstand\,21526 Hohenhorn
SUMMARY:Großkaliber Langwaffe B2 300m
URL:http://sg-hohenhorn.de/index.php?option=com_jem&view=event&id=515:gross
 kaliber-langwaffe
END:VEVENT
END:VCALENDAR
