BEGIN:VCALENDAR
VERSION:2.0
PRODID:-//81.169.145.93//NONSGML kigkonsult.se iCalcreator 2.20//
CALSCALE:GREGORIAN
METHOD:PUBLISH
X-WR-TIMEZONE:UTC
BEGIN:VEVENT
UID:event558@Schützengruppe Hohenhorn
DTSTAMP:20260424T110628Z
CATEGORIES:Großkaliber
DESCRIPTION:GK Langwaffe B2 300m\nKategorie: Großkaliber\nICS-Link: http://
 sg-hohenhorn.de/index.php?option=com_jem&view=event&id=558:grosskaliber-la
 ngwaffe\n
DTSTART:20251122T110000Z
DTEND:20251122T140000Z
LOCATION:Großkaliberstand\,Zum Schießstand\,21526 Hohenhorn
SUMMARY:GK Langwaffe B2 300m
URL:http://sg-hohenhorn.de/index.php?option=com_jem&view=event&id=558:gross
 kaliber-langwaffe
END:VEVENT
END:VCALENDAR
