BEGIN:VCALENDAR
VERSION:2.0
PRODID:-//81.169.145.93//NONSGML kigkonsult.se iCalcreator 2.20//
CALSCALE:GREGORIAN
METHOD:PUBLISH
X-WR-TIMEZONE:UTC
BEGIN:VEVENT
UID:event559@Schützengruppe Hohenhorn
DTSTAMP:20260424T103544Z
CATEGORIES:Großkaliber
DESCRIPTION: GK Langwaffe B1 100m\nKategorie: Großkaliber\nICS-Link: http:/
 /sg-hohenhorn.de/index.php?option=com_jem&view=event&id=559:grosskaliber-l
 angwaffe\n
DTSTART:20251108T140000Z
DTEND:20251108T160000Z
LOCATION:Großkaliberstand\,Zum Schießstand\,21526 Hohenhorn
SUMMARY: GK Langwaffe B1 100m
URL:http://sg-hohenhorn.de/index.php?option=com_jem&view=event&id=559:gross
 kaliber-langwaffe
END:VEVENT
END:VCALENDAR
